BEGIN:VCALENDAR
VERSION:2.0
PRODID:-//wp-events-plugin.com//7.2.3.1//EN
TZID:Europe/Berlin
X-WR-TIMEZONE:Europe/Berlin
BEGIN:VEVENT
UID:4@afk-hessen.de
DTSTART;TZID=Europe/Berlin:20200912T100000
DTEND;TZID=Europe/Berlin:20200912T170000
DTSTAMP:20200814T082629Z
URL:https://afk-hessen.de/veranstaltungen/hessische-gemeindeordnung-grundl
 agen/
SUMMARY:Hessische Gemeindeordnung – Grundlagen
DESCRIPTION:Grundlegende Informationen zur Hessischen Gemeindeordnung
CATEGORIES:Seminare
LOCATION:SPD Parteihaus\, Fischerfeldstraße 7-11\, Frankfurt\, 60311\, Deu
 tschland
X-APPLE-STRUCTURED-LOCATION;VALUE=URI;X-ADDRESS=Fischerfeldstraße 7-11\, F
 rankfurt\, 60311\, Deutschland;X-APPLE-RADIUS=100;X-TITLE=SPD Parteihaus:g
 eo:0,0
END:VEVENT
BEGIN:VTIMEZONE
TZID:Europe/Berlin
X-LIC-LOCATION:Europe/Berlin
BEGIN:DAYLIGHT
DTSTART:20200329T030000
TZOFFSETFROM:+0100
TZOFFSETTO:+0200
TZNAME:CEST
END:DAYLIGHT
END:VTIMEZONE
END:VCALENDAR