BEGIN:VCALENDAR
VERSION:2.0
PRODID:-//wp-events-plugin.com//7.2.3.1//EN
TZID:Europe/Berlin
X-WR-TIMEZONE:Europe/Berlin
BEGIN:VEVENT
UID:57@afk-hessen.de
DTSTART;TZID=Europe/Berlin:20211104T180000
DTEND;TZID=Europe/Berlin:20211104T210000
DTSTAMP:20210923T091618Z
URL:https://afk-hessen.de/veranstaltungen/integrierte-stadtentwicklung-onl
 ine/
SUMMARY:Integrierte Stadtentwicklung- Online
DESCRIPTION:Gute Beispiele einer Querschnittsaufgabe für Städte und Gemei
 nden\n
CATEGORIES:Seminare,Web-Seminare
END:VEVENT
BEGIN:VTIMEZONE
TZID:Europe/Berlin
X-LIC-LOCATION:Europe/Berlin
BEGIN:STANDARD
DTSTART:20211031T020000
TZOFFSETFROM:+0200
TZOFFSETTO:+0100
TZNAME:CET
END:STANDARD
END:VTIMEZONE
END:VCALENDAR