BEGIN:VCALENDAR
VERSION:2.0
PRODID:-//wp-events-plugin.com//7.2.3.1//EN
TZID:Europe/Berlin
X-WR-TIMEZONE:Europe/Berlin
BEGIN:VEVENT
UID:207@afk-hessen.de
DTSTART;TZID=Europe/Berlin:20260425T100000
DTEND;TZID=Europe/Berlin:20260425T140000
DTSTAMP:20260416T105307Z
URL:https://afk-hessen.de/veranstaltungen/ortsbeiraetekonferenz/
SUMMARY:Ortsbeirätekonferenz
DESCRIPTION:Wie startet ein Ortsbeirat in seine Arbeit? Welche Rechte und P
 flichten bringt das Mandat mit sich\, und welche praktischen Fragen stelle
 n sich gerade am Anfang?\n\nDiese Veranstaltung bietet einen verständlich
 en und praxisnahen Einstieg in die Ortsbeiratsarbeit\, von der Konstituier
 ung bis zum politischen Alltag vor Ort.\n\nPraxisbeispiele aus der Ortsbei
 ratsarbeit in Darmstadt-Wixhausen zeigen außerdem\, wie kommunalpolitisch
 es Engagement vor Ort gelingt und welche Möglichkeiten ein Ortsbeirat hat
 \, lokale Themen aufzugreifen und mitzugestalten.\n\nDie Veranstaltung bie
 tet zudem Gelegenheit zum Austausch und zur Diskussion.\n\nMit: Julia Ostr
 owicki\, Thomas Euler und Kevin Trah-Bente\n\n&nbsp\;\n\n&nbsp\;\n\n&nbsp\
 ;
CATEGORIES:Präsenzseminare,Seminare
LOCATION:Kongresshalle Gießen\, Südanlage 3\, Gießen\, 35390\, Deutschla
 nd
X-APPLE-STRUCTURED-LOCATION;VALUE=URI;X-ADDRESS=Südanlage 3\, Gießen\, 35
 390\, Deutschland;X-APPLE-RADIUS=100;X-TITLE=Kongresshalle Gießen:geo:0,0
END:VEVENT
BEGIN:VTIMEZONE
TZID:Europe/Berlin
X-LIC-LOCATION:Europe/Berlin
BEGIN:DAYLIGHT
DTSTART:20260329T030000
TZOFFSETFROM:+0100
TZOFFSETTO:+0200
TZNAME:CEST
END:DAYLIGHT
END:VTIMEZONE
END:VCALENDAR